BEGIN:VCALENDAR
VERSION:2.0
PRODID:-//daytonchristiancenter.org//NONSGML kigkonsult.se iCalcreator 2.30
 .10//
CALSCALE:GREGORIAN
METHOD:PUBLISH
UID:468451e8-7609-4bde-8cb8-20b28c998274
X-WR-CALDESC:After 8 incredible years of faithful service\, we celebrate th
 e retirement of our beloved Spiritual Director\, Rev. Dr. Marva O. Hughes!
  Her unwavering commitment to keeping our center rooted in faith has left 
 a lasting impact on our children\, families\, and staff. From heartfelt co
 nversations to leading praise and worship\, she has poured love\, wisdom\,
  and spiritual guidance into every moment. Your presence will be deeply mi
 ssed\, but your light will continue to shine through every heart you've to
 uched. ❤️‍🔥
X-WR-RELCALID:ffddde87f6cbbf9e7d202f666b0c30cc
X-WR-TIMEZONE:America/New_York
BEGIN:VTIMEZONE
TZID:America/New_York
BEGIN:STANDARD
TZNAME:EST
DTSTART:20241103T020000
TZOFFSETFROM:-0400
TZOFFSETTO:-0500
RDATE:20251102T020000
RDATE:20261101T020000
END:STANDARD
BEGIN:DAYLIGHT
TZNAME:EDT
DTSTART:20250309T020000
TZOFFSETFROM:-0500
TZOFFSETTO:-0400
RDATE:20260308T020000
END:DAYLIGHT
END:VTIMEZONE
BEGIN:VEVENT
UID:e70b93f4-af69-4462-a978-316874196762
DTSTAMP:20260421T233832Z
DESCRIPTION:After 8 incredible years of faithful service\, we celebrate the
  retirement of our beloved Spiritual Director\, Rev. Dr. Marva O. Hughes! 
 Her unwavering commitment to keeping our center rooted in faith has left a
  lasting impact on our children\, families\, and staff. From heartfelt con
 versations to leading praise and worship\, she has poured love\, wisdom\, 
 and spiritual guidance into every moment. Your presence will be deeply mis
 sed\, but your light will continue to shine through every heart you've tou
 ched. ❤️‍🔥
DTSTART;TZID=America/New_York:20250702T180000
DTEND;TZID=America/New_York:20250702T200000
LOCATION:1352 W Riverview Ave\, Dayton\, AL 45402 US
SUMMARY:Dr. Rev. Marva's Retirement Celebration
END:VEVENT
END:VCALENDAR
