BEGIN:VCALENDAR
VERSION:2.0
PRODID:-//daytonchristiancenter.org//NONSGML kigkonsult.se iCalcreator 2.30
 .10//
CALSCALE:GREGORIAN
METHOD:PUBLISH
UID:5966c0cd-1b5b-478f-b698-c0fa1a57686a
X-WR-CALDESC:
X-WR-RELCALID:d4fa22ec980404cd660b4db3bef3fbbe
X-WR-TIMEZONE:America/New_York
BEGIN:VTIMEZONE
TZID:America/New_York
BEGIN:STANDARD
TZNAME:EST
DTSTART:20241103T020000
TZOFFSETFROM:-0400
TZOFFSETTO:-0500
RDATE:20251102T020000
RDATE:20261101T020000
END:STANDARD
BEGIN:DAYLIGHT
TZNAME:EDT
DTSTART:20250309T020000
TZOFFSETFROM:-0500
TZOFFSETTO:-0400
RDATE:20260308T020000
END:DAYLIGHT
END:VTIMEZONE
BEGIN:VEVENT
UID:6e177b51-3a8c-4cac-9605-9022fc1c0129
DTSTAMP:20260421T220547Z
DESCRIPTION:
DTSTART;TZID=America/New_York:20250802T120000
DTEND;TZID=America/New_York:20250802T160000
LOCATION:1352 W Riverview Ave\, Dayton\, OH 45402 US
SUMMARY:Healthy Body\, Healthy Mind\, Healthy Year: 2025 Community Day
END:VEVENT
END:VCALENDAR
