BEGIN:VCALENDAR
VERSION:2.0
PRODID:-//daytonchristiancenter.org//NONSGML kigkonsult.se iCalcreator 2.30
 .10//
CALSCALE:GREGORIAN
METHOD:PUBLISH
UID:cde7d5d6-d179-4afb-943e-a03bdb18a840
X-WR-CALDESC:
X-WR-RELCALID:2445ccf2687893c5ee7da7681f0bf2e1
X-WR-TIMEZONE:America/New_York
BEGIN:VTIMEZONE
TZID:America/New_York
BEGIN:STANDARD
TZNAME:EST
DTSTART:20251102T020000
TZOFFSETFROM:-0400
TZOFFSETTO:-0500
RDATE:20261101T020000
END:STANDARD
BEGIN:DAYLIGHT
TZNAME:EDT
DTSTART:20260308T020000
TZOFFSETFROM:-0500
TZOFFSETTO:-0400
RDATE:20270314T020000
END:DAYLIGHT
END:VTIMEZONE
BEGIN:VEVENT
UID:49ae6a33-dac3-4429-b171-4e7099e2d921
DTSTAMP:20260424T173917Z
DESCRIPTION:
DTSTART;TZID=America/New_York:20260328T110000
DTEND;TZID=America/New_York:20260328T130000
LOCATION:1352 W Riverview Ave\, Dayton\, OH 45402 US
SUMMARY:Eggtastic Easter Festival
END:VEVENT
END:VCALENDAR
