BEGIN:VCALENDAR
VERSION:2.0
PRODID:-//daytonchristiancenter.org//NONSGML kigkonsult.se iCalcreator 2.30
 .10//
CALSCALE:GREGORIAN
METHOD:PUBLISH
UID:ad345ecb-12ec-4463-b5f2-a1c8050d2529
X-WR-CALDESC:Thinking about childcare for your little one? You're invited t
 o our Open House! 🎉n\nCome explore and discover all that our childcare pro
 grams have to offer! Our programs include:\n• Early Learning Center\n• Bef
 ore & After School Program (which will soon transition into our Summer Cam
 p program) \n\nYou’ll have the opportunity to tour our classrooms\, meet o
 ur teachers\, and learn more about how we support children’s growth throug
 h play\, learning\, and nurturing connection. Whether you're looking for c
 are now or planning ahead\, we’d love to connect with you and your family.
  We can’t wait to meet you!
X-WR-RELCALID:a819eb08addfbba11da013bb033b5252
X-WR-TIMEZONE:America/New_York
BEGIN:VTIMEZONE
TZID:America/New_York
BEGIN:STANDARD
TZNAME:EST
DTSTART:20251102T020000
TZOFFSETFROM:-0400
TZOFFSETTO:-0500
RDATE:20261101T020000
END:STANDARD
BEGIN:DAYLIGHT
TZNAME:EDT
DTSTART:20260308T020000
TZOFFSETFROM:-0500
TZOFFSETTO:-0400
RDATE:20270314T020000
END:DAYLIGHT
END:VTIMEZONE
BEGIN:VEVENT
UID:63249bf0-4a20-4345-a0f7-b5ec8e3a1a4b
DTSTAMP:20260424T160605Z
DESCRIPTION:Thinking about childcare for your little one? You're invited to
  our Open House! 🎉n\nCome explore and discover all that our childcare prog
 rams have to offer! Our programs include:\n• Early Learning Center\n• Befo
 re & After School Program (which will soon transition into our Summer Camp
  program) \n\nYou’ll have the opportunity to tour our classrooms\, meet ou
 r teachers\, and learn more about how we support children’s growth through
  play\, learning\, and nurturing connection. Whether you're looking for ca
 re now or planning ahead\, we’d love to connect with you and your family. 
 We can’t wait to meet you!
DTSTART;TZID=America/New_York:20260416T080000
DTEND;TZID=America/New_York:20260416T120000
LOCATION:1352 W Riverview Ave\, Dayton\, OH 45402 US
SUMMARY:Open House!
END:VEVENT
END:VCALENDAR
