BEGIN:VCALENDAR
VERSION:2.0
PRODID:-//daytonchristiancenter.org//NONSGML kigkonsult.se iCalcreator 2.30
 .10//
CALSCALE:GREGORIAN
METHOD:PUBLISH
UID:3f2e87d2-c147-461a-8d3e-68e1501a0a49
X-WR-CALDESC:
X-WR-RELCALID:1607f2340cbabc3e309ed1ea3bcd6934
X-WR-TIMEZONE:America/New_York
BEGIN:VTIMEZONE
TZID:America/New_York
BEGIN:STANDARD
TZNAME:EST
DTSTART:20251102T020000
TZOFFSETFROM:-0400
TZOFFSETTO:-0500
RDATE:20261101T020000
END:STANDARD
BEGIN:DAYLIGHT
TZNAME:EDT
DTSTART:20260308T020000
TZOFFSETFROM:-0500
TZOFFSETTO:-0400
RDATE:20270314T020000
END:DAYLIGHT
END:VTIMEZONE
BEGIN:VEVENT
UID:f4462217-b725-4f61-8179-1fb0cc69a6d0
DTSTAMP:20260424T161133Z
DESCRIPTION:
DTSTART;TZID=America/New_York:20260416T153000
DTEND;TZID=America/New_York:20260416T173000
LOCATION:1352 W Riverview Ave\, Dayton\, OH 45402 US
SUMMARY:Open House– Afternoon Block!
END:VEVENT
END:VCALENDAR
